Workbook

Sheet Tööajaarvestus
A1: Tööajaarvestus
A2: Üks kuu, üks töötaja. Kollased lahtrid on täitmiseks, ülejäänud arvutatakse ise.
A4: Ettevõte | B4: Näidis Ehitus OÜ
A5: Töötaja | B5: Jaan Tamm
A6: Kuu esimene päev | B6: 46235
A7: Algsaldo (h) | B7: 0 | C7: Summeeritud tööaja puhul arvestusperioodi eelnev saldo. Muidu 0.
A9: Kuupäev | B9: Päev | C9: Objekt | D9: Algus | E9: Lõpp | F9: Paus (h) | G9: Tunnid | H9: Jooksev kokku | I9: Märkus
A10: =$B$6 | B10: =IF(A10="","",CHOOSE(WEEKDAY(A10,2),"E","T","K","N","R","L","P")) | C10: Pärnu mnt 12 | D10: 0.33333333 | E10: 0.6875 | F10: 0.5 | G10: =IF(OR(D10="",E10=""),"",ROUND((E10-D10)*24-N(F10),2)) | H10: =IF(A10="","",N($B$7)+N(G10)) | I10: Näidisrida, kirjuta üle
A11: =IF(A10="","",IF(MONTH(A10+1)=MONTH($B$6),A10+1,"")) | B11: =IF(A11="","",CHOOSE(WEEKDAY(A11,2),"E","T","K","N","R","L","P")) | G11: =IF(OR(D11="",E11=""),"",ROUND((E11-D11)*24-N(F11),2)) | H11: =IF(A11="","",N(H10)+N(G11))
A12: =IF(A11="","",IF(MONTH(A11+1)=MONTH($B$6),A11+1,"")) | B12: =IF(A12="","",CHOOSE(WEEKDAY(A12,2),"E","T","K","N","R","L","P")) | G12: =IF(OR(D12="",E12=""),"",ROUND((E12-D12)*24-N(F12),2)) | H12: =IF(A12="","",N(H11)+N(G12))
A13: =IF(A12="","",IF(MONTH(A12+1)=MONTH($B$6),A12+1,"")) | B13: =IF(A13="","",CHOOSE(WEEKDAY(A13,2),"E","T","K","N","R","L","P")) | G13: =IF(OR(D13="",E13=""),"",ROUND((E13-D13)*24-N(F13),2)) | H13: =IF(A13="","",N(H12)+N(G13))
A14: =IF(A13="","",IF(MONTH(A13+1)=MONTH($B$6),A13+1,"")) | B14: =IF(A14="","",CHOOSE(WEEKDAY(A14,2),"E","T","K","N","R","L","P")) | G14: =IF(OR(D14="",E14=""),"",ROUND((E14-D14)*24-N(F14),2)) | H14: =IF(A14="","",N(H13)+N(G14))
A15: =IF(A14="","",IF(MONTH(A14+1)=MONTH($B$6),A14+1,"")) | B15: =IF(A15="","",CHOOSE(WEEKDAY(A15,2),"E","T","K","N","R","L","P")) | G15: =IF(OR(D15="",E15=""),"",ROUND((E15-D15)*24-N(F15),2)) | H15: =IF(A15="","",N(H14)+N(G15))
A16: =IF(A15="","",IF(MONTH(A15+1)=MONTH($B$6),A15+1,"")) | B16: =IF(A16="","",CHOOSE(WEEKDAY(A16,2),"E","T","K","N","R","L","P")) | G16: =IF(OR(D16="",E16=""),"",ROUND((E16-D16)*24-N(F16),2)) | H16: =IF(A16="","",N(H15)+N(G16))
A17: =IF(A16="","",IF(MONTH(A16+1)=MONTH($B$6),A16+1,"")) | B17: =IF(A17="","",CHOOSE(WEEKDAY(A17,2),"E","T","K","N","R","L","P")) | G17: =IF(OR(D17="",E17=""),"",ROUND((E17-D17)*24-N(F17),2)) | H17: =IF(A17="","",N(H16)+N(G17))
A18: =IF(A17="","",IF(MONTH(A17+1)=MONTH($B$6),A17+1,"")) | B18: =IF(A18="","",CHOOSE(WEEKDAY(A18,2),"E","T","K","N","R","L","P")) | G18: =IF(OR(D18="",E18=""),"",ROUND((E18-D18)*24-N(F18),2)) | H18: =IF(A18="","",N(H17)+N(G18))
A19: =IF(A18="","",IF(MONTH(A18+1)=MONTH($B$6),A18+1,"")) | B19: =IF(A19="","",CHOOSE(WEEKDAY(A19,2),"E","T","K","N","R","L","P")) | G19: =IF(OR(D19="",E19=""),"",ROUND((E19-D19)*24-N(F19),2)) | H19: =IF(A19="","",N(H18)+N(G19))
A20: =IF(A19="","",IF(MONTH(A19+1)=MONTH($B$6),A19+1,"")) | B20: =IF(A20="","",CHOOSE(WEEKDAY(A20,2),"E","T","K","N","R","L","P")) | G20: =IF(OR(D20="",E20=""),"",ROUND((E20-D20)*24-N(F20),2)) | H20: =IF(A20="","",N(H19)+N(G20))
A21: =IF(A20="","",IF(MONTH(A20+1)=MONTH($B$6),A20+1,"")) | B21: =IF(A21="","",CHOOSE(WEEKDAY(A21,2),"E","T","K","N","R","L","P")) | G21: =IF(OR(D21="",E21=""),"",ROUND((E21-D21)*24-N(F21),2)) | H21: =IF(A21="","",N(H20)+N(G21))
A22: =IF(A21="","",IF(MONTH(A21+1)=MONTH($B$6),A21+1,"")) | B22: =IF(A22="","",CHOOSE(WEEKDAY(A22,2),"E","T","K","N","R","L","P")) | G22: =IF(OR(D22="",E22=""),"",ROUND((E22-D22)*24-N(F22),2)) | H22: =IF(A22="","",N(H21)+N(G22))
... A40: =IF(A39="","",IF(MONTH(A39+1)=MONTH($B$6),A39+1,"")) | B40: =IF(A40="","",CHOOSE(WEEKDAY(A40,2),"E","T","K","N","R","L","P")) | G40: =IF(OR(D40="",E40=""),"",ROUND((E40-D40)*24-N(F40),2)) | H40: =IF(A40="","",N(H39)+N(G40))
A41: Kokku | G41: =ROUND(SUM(G10:G40),2)
A43: Kuidas täita
A44: 1. Kirjuta ettevõte, töötaja ja kuu esimene päev. Kuupäevad tulevad ise.
A45: 2. Iga tööpäeva kohta täida objekt, algus, lõpp ja paus. Tunnid arvutatakse.
A46: 3. Paus märgi tundides. Pool tundi on 0,5.
A47: 4. Jooksev kokku näitab arvestusperioodi summat, mis on summeeritud tööaja puhul oluline.
A48: 5. Objektide kaupa kokkuvõte on teisel lehel.

Sheet Kokkuvõte
A1: Kokkuvõte objektide kaupa
A2: Kirjuta objektide nimed täpselt nii, nagu need on esimesel lehel.
A4: Objekt | B4: Tunnid
A5: Pärnu mnt 12 | B5: =IF(A5="","",ROUND(SUMIF(Tööajaarvestus!$C$10:$C$40,A5,Tööajaarvestus!$G$10:$G$40),2))
B6: =IF(A6="","",ROUND(SUMIF(Tööajaarvestus!$C$10:$C$40,A6,Tööajaarvestus!$G$10:$G$40),2))
B7: =IF(A7="","",ROUND(SUMIF(Tööajaarvestus!$C$10:$C$40,A7,Tööajaarvestus!$G$10:$G$40),2))
B8: =IF(A8="","",ROUND(SUMIF(Tööajaarvestus!$C$10:$C$40,A8,Tööajaarvestus!$G$10:$G$40),2))
B9: =IF(A9="","",ROUND(SUMIF(Tööajaarvestus!$C$10:$C$40,A9,Tööajaarvestus!$G$10:$G$40),2))
B10: =IF(A10="","",ROUND(SUMIF(Tööajaarvestus!$C$10:$C$40,A10,Tööajaarvestus!$G$10:$G$40),2))
B11: =IF(A11="","",ROUND(SUMIF(Tööajaarvestus!$C$10:$C$40,A11,Tööajaarvestus!$G$10:$G$40),2))
B12: =IF(A12="","",ROUND(SUMIF(Tööajaarvestus!$C$10:$C$40,A12,Tööajaarvestus!$G$10:$G$40),2))
B13: =IF(A13="","",ROUND(SUMIF(Tööajaarvestus!$C$10:$C$40,A13,Tööajaarvestus!$G$10:$G$40),2))
B14: =IF(A14="","",ROUND(SUMIF(Tööajaarvestus!$C$10:$C$40,A14,Tööajaarvestus!$G$10:$G$40),2))
B15: =IF(A15="","",ROUND(SUMIF(Tööajaarvestus!$C$10:$C$40,A15,Tööajaarvestus!$G$10:$G$40),2))
B16: =IF(A16="","",ROUND(SUMIF(Tööajaarvestus!$C$10:$C$40,A16,Tööajaarvestus!$G$10:$G$40),2))
B17: =IF(A17="","",ROUND(SUMIF(Tööajaarvestus!$C$10:$C$40,A17,Tööajaarvestus!$G$10:$G$40),2))
... B24: =IF(A24="","",ROUND(SUMIF(Tööajaarvestus!$C$10:$C$40,A24,Tööajaarvestus!$G$10:$G$40),2))
A25: Kokku | B25: =ROUND(SUM(B5:B24),2)
A27: Kontroll
A28: Vahe esimese lehe summaga | B28: =ROUND(B25-Tööajaarvestus!G41,2)
A29: Kui vahe ei ole null, on mõni objekti nimi kirjutatud teisiti kui esimesel lehel.
